BEGIN:VCALENDAR
CALSCALE:GREGORIAN
METHOD:PUBLISH
PRODID:-//5.199.133.97//NONSGML iCalcreator 2.6//
VERSION:2.0
UNIQUE_ID:event765@Йога секреты
X-WR-TIMEZONE:Asia/Baku
BEGIN:VEVENT
UID:event765@Йога секреты
DTSTAMP:20260422T220243Z
CATEGORIES:Путешествие
DESCRIPTION:HARMONYoga на Сейшельских островах\nТип
  события: Путешествие\nСсылка: https://yogasecrets
 .ru/index.php?option=com_eventlist&view=details&id=765:harmonyoga---&Itemi
 d=117\n
DTSTART;VALUE=DATE:20150104
DTEND;VALUE=DATE:20150114
LOCATION:Сейшелы\, о. Маэ\,Seychelles
SUMMARY:HARMONYoga на Сейшельских островах
URL:https://yogasecrets.ru/index.php?option=com_eventlist&view=details&id=7
 65:harmonyoga---&Itemid=117
END:VEVENT
END:VCALENDAR
