BEGIN:VCALENDAR
CALSCALE:GREGORIAN
METHOD:PUBLISH
PRODID:-//5.199.133.97//NONSGML iCalcreator 2.6//
VERSION:2.0
UNIQUE_ID:event783@Йога секреты
X-WR-TIMEZONE:Asia/Baku
BEGIN:VEVENT
UID:event783@Йога секреты
DTSTAMP:20260422T001708Z
CATEGORIES:Путешествие
DESCRIPTION:«Омоложение. Расаяна». Йога-аюрвед
 а тур в Индию\nТип события: Путешествие\nС
 сылка: https://yogasecrets.ru/index.php?option=com_eventlist&view=det
 ails&id=783:l-r-----&Itemid=117\n
DTSTART;VALUE=DATE:20141020
DTEND;VALUE=DATE:20141103
LOCATION:ГОА\, Индия\,ГОА\,India
SUMMARY:«Омоложение. Расаяна». Йога-аюрведа 
 ур в Индию
URL:https://yogasecrets.ru/index.php?option=com_eventlist&view=details&id=7
 83:l-r-----&Itemid=117
END:VEVENT
END:VCALENDAR
