BEGIN:VCALENDAR
CALSCALE:GREGORIAN
METHOD:PUBLISH
PRODID:-//5.199.133.97//NONSGML iCalcreator 2.6//
VERSION:2.0
UNIQUE_ID:event784@Йога секреты
X-WR-TIMEZONE:Asia/Baku
BEGIN:VEVENT
UID:event784@Йога секреты
DTSTAMP:20260422T013907Z
CATEGORIES:Путешествие
DESCRIPTION:«Йога и счастье» — йога-тур в Гоа н
 а океан\, 4 – 15 ноября\nТип события: Путеше
 ствие\nСсылка: https://yogasecrets.ru/index.php?option=com_even
 tlist&view=details&id=784:l--r--------4--15-&Itemid=117\n
DTSTART;VALUE=DATE:20141104
DTEND;VALUE=DATE:20141116
LOCATION:ГОА\, Индия\,ГОА\,India
SUMMARY:«Йога и счастье» — йога-тур в Гоа на 
 кеан\, 4 – 15 ноября
URL:https://yogasecrets.ru/index.php?option=com_eventlist&view=details&id=7
 84:l--r--------4--15-&Itemid=117
END:VEVENT
END:VCALENDAR
