BEGIN:VCALENDAR
CALSCALE:GREGORIAN
METHOD:PUBLISH
PRODID:-//5.199.133.97//NONSGML iCalcreator 2.6//
VERSION:2.0
UNIQUE_ID:event785@Йога секреты
X-WR-TIMEZONE:Asia/Baku
BEGIN:VEVENT
UID:event785@Йога секреты
DTSTAMP:20260422T234526Z
CATEGORIES:Путешествие
DESCRIPTION:Лайт йога в Гоа 8 – 19 декабря 2014 / Йо
 га-тур /\nТип события: Путешествие\nСсылка
 : https://yogasecrets.ru/index.php?option=com_eventlist&view=details&id=78
 5:----8--19--2014----&Itemid=117\n
DTSTART;VALUE=DATE:20141208
DTEND;VALUE=DATE:20141220
LOCATION:ГОА\, Индия\,ГОА\,India
SUMMARY:Лайт йога в Гоа 8 – 19 декабря 2014 / Йога
 -тур /
URL:https://yogasecrets.ru/index.php?option=com_eventlist&view=details&id=7
 85:----8--19--2014----&Itemid=117
END:VEVENT
END:VCALENDAR
