BEGIN:VCALENDAR
CALSCALE:GREGORIAN
METHOD:PUBLISH
PRODID:-//5.199.133.97//NONSGML iCalcreator 2.6//
VERSION:2.0
UNIQUE_ID:event786@Йога секреты
X-WR-TIMEZONE:Asia/Baku
BEGIN:VEVENT
UID:event786@Йога секреты
DTSTAMP:20260421T184615Z
CATEGORIES:Путешествие
DESCRIPTION:16-27 февраля «Йога и счастье» — йог
 -тур в Гоа на океан\nТип события: Путешес
 вие\nСсылка: https://yogasecrets.ru/index.php?option=com_eventli
 st&view=details&id=786:16-27--l--r-------&Itemid=117\n
DTSTART;VALUE=DATE:20150216
DTEND;VALUE=DATE:20150228
LOCATION:ГОА\, Индия\,ГОА\,India
SUMMARY:16-27 февраля «Йога и счастье» — йога-т
 ур в Гоа на океан
URL:https://yogasecrets.ru/index.php?option=com_eventlist&view=details&id=7
 86:16-27--l--r-------&Itemid=117
END:VEVENT
END:VCALENDAR
