BEGIN:VCALENDAR
CALSCALE:GREGORIAN
METHOD:PUBLISH
PRODID:-//5.199.133.97//NONSGML iCalcreator 2.6//
VERSION:2.0
UNIQUE_ID:event789@Йога секреты
X-WR-TIMEZONE:Asia/Baku
BEGIN:VEVENT
UID:event789@Йога секреты
DTSTAMP:20260422T001702Z
CATEGORIES:Путешествие
DESCRIPTION:Йога-поход вокруг горы Аннапурна в
  Непале\nТип события: Путешествие\nСсылка
 : https://yogasecrets.ru/index.php?option=com_eventlist&view=details&id=78
 9:------&Itemid=117\n
DTSTART;VALUE=DATE:20141018
DTEND;VALUE=DATE:20141102
LOCATION:Круг Аннапурны\,Катманду\,Nepal
SUMMARY:Йога-поход вокруг горы Аннапурна в Н
 пале
URL:https://yogasecrets.ru/index.php?option=com_eventlist&view=details&id=7
 89:------&Itemid=117
END:VEVENT
END:VCALENDAR
