BEGIN:VCALENDAR
CALSCALE:GREGORIAN
METHOD:PUBLISH
PRODID:-//5.199.133.97//NONSGML iCalcreator 2.6//
VERSION:2.0
UNIQUE_ID:event793@Йога секреты
X-WR-TIMEZONE:Asia/Baku
BEGIN:VEVENT
UID:event793@Йога секреты
DTSTAMP:20260422T220705Z
CATEGORIES:Путешествие
DESCRIPTION:Йога-тур 'Новый год и Рождество на 
 ляже солнечной Камбоджи'\nТип события: П
 тешествие\nСсылка: https://yogasecrets.ru/index.php?option
 =com_eventlist&view=details&id=793:--q-------q&Itemid=117\n
DTSTART;TZID=Asia/Baku:20141231T120000
DTEND;TZID=Asia/Baku:20150114T120000
LOCATION:Камбоджа\,Cambodia
SUMMARY:Йога-тур 'Новый год и Рождество на пл
 же солнечной Камбоджи'
URL:https://yogasecrets.ru/index.php?option=com_eventlist&view=details&id=7
 93:--q-------q&Itemid=117
END:VEVENT
END:VCALENDAR
