BEGIN:VCALENDAR
CALSCALE:GREGORIAN
METHOD:PUBLISH
PRODID:-//5.199.133.97//NONSGML iCalcreator 2.6//
VERSION:2.0
UNIQUE_ID:event81@Йога секреты
X-WR-TIMEZONE:Asia/Baku
BEGIN:VEVENT
UID:event81@Йога секреты
DTSTAMP:20260424T142658Z
CATEGORIES:Путешествие
DESCRIPTION:Тур 'ЙОГА ПОД СОЛНЦЕМ ИНДИИ'\nТип со
 бытия: Путешествие\nСсылка: https://yogasecrets.ru/i
 ndex.php?option=com_eventlist&view=details&id=81:-q---q&Itemid=117\n
DTSTART;TZID=Asia/Baku:20121115T180000
DTEND;TZID=Asia/Baku:20121128T180000
LOCATION:Кумта талука\, Баад Вилладж\, Эколодж
 \,Гокарна\,India
SUMMARY:Тур 'ЙОГА ПОД СОЛНЦЕМ ИНДИИ'
URL:https://yogasecrets.ru/index.php?option=com_eventlist&view=details&id=8
 1:-q---q&Itemid=117
END:VEVENT
END:VCALENDAR
