BEGIN:VCALENDAR
CALSCALE:GREGORIAN
METHOD:PUBLISH
PRODID:-//5.199.133.97//NONSGML iCalcreator 2.6//
VERSION:2.0
UNIQUE_ID:event811@Йога секреты
X-WR-TIMEZONE:Asia/Baku
BEGIN:VEVENT
UID:event811@Йога секреты
DTSTAMP:20260422T013947Z
CATEGORIES:Путешествие
DESCRIPTION:Паломническое йога-путешествие по
  югу Индии\nТип события: Путешествие\nСсы
 ка: https://yogasecrets.ru/index.php?option=com_eventlist&view=details&
 id=811:-----&Itemid=117\n
DTSTART;VALUE=DATE:20141115
DTEND;VALUE=DATE:20141201
LOCATION:Индия\,Ришикеш\,India
SUMMARY:Паломническое йога-путешествие по ю
 у Индии
URL:https://yogasecrets.ru/index.php?option=com_eventlist&view=details&id=8
 11:-----&Itemid=117
END:VEVENT
END:VCALENDAR
