BEGIN:VCALENDAR
CALSCALE:GREGORIAN
METHOD:PUBLISH
PRODID:-//5.199.133.97//NONSGML iCalcreator 2.6//
VERSION:2.0
UNIQUE_ID:event834@Йога секреты
X-WR-TIMEZONE:Asia/Baku
BEGIN:VEVENT
UID:event834@Йога секреты
DTSTAMP:20260421T184202Z
CATEGORIES:Путешествие
DESCRIPTION:Йога-тур в Таиланд 'Golden Temple'\nТип со
 ытия: Путешествие\nСсылка: https://yogasecrets.ru/in
 dex.php?option=com_eventlist&view=details&id=834:----qgolden-templeq&Itemi
 d=117\n
DTSTART;VALUE=DATE:20150214
DTEND;VALUE=DATE:20150301
LOCATION:
SUMMARY:Йога-тур в Таиланд 'Golden Temple'
URL:https://yogasecrets.ru/index.php?option=com_eventlist&view=details&id=8
 34:----qgolden-templeq&Itemid=117
END:VEVENT
END:VCALENDAR
