BEGIN:VCALENDAR
CALSCALE:GREGORIAN
METHOD:PUBLISH
PRODID:-//5.199.133.97//NONSGML iCalcreator 2.6//
VERSION:2.0
UNIQUE_ID:event879@Йога секреты
X-WR-TIMEZONE:Asia/Baku
BEGIN:VEVENT
UID:event879@Йога секреты
DTSTAMP:20260422T220243Z
CATEGORIES:Путешествие
DESCRIPTION:Йога тур на Сейшелы!\nТип события: П
 утешествие\nСсылка: https://yogasecrets.ru/index.php?optio
 n=com_eventlist&view=details&id=879:---&Itemid=117\n
DTSTART;VALUE=DATE:20150104
DTEND;VALUE=DATE:20150114
LOCATION:о. Маэ\, Сейешельские острова\,Seychelles
SUMMARY:Йога тур на Сейшелы!
URL:https://yogasecrets.ru/index.php?option=com_eventlist&view=details&id=8
 79:---&Itemid=117
END:VEVENT
END:VCALENDAR
