BEGIN:VCALENDAR
CALSCALE:GREGORIAN
METHOD:PUBLISH
PRODID:-//5.199.133.97//NONSGML iCalcreator 2.6//
VERSION:2.0
UNIQUE_ID:event888@Йога секреты
X-WR-TIMEZONE:Asia/Baku
BEGIN:VEVENT
UID:event888@Йога секреты
DTSTAMP:20260421T202044Z
CATEGORIES:Путешествие
DESCRIPTION:Спа-йога путешествие в Тайланд\, о. 
 Ко Чанг!\nТип события: Путешествие\nСсылк
 : https://yogasecrets.ru/index.php?option=com_eventlist&view=details&id=8
 88:-------&Itemid=117\n
DTSTART;VALUE=DATE:20150127
DTEND;VALUE=DATE:20150212
LOCATION:
SUMMARY:Спа-йога путешествие в Тайланд\, о. Ко
  Чанг!
URL:https://yogasecrets.ru/index.php?option=com_eventlist&view=details&id=8
 88:-------&Itemid=117
END:VEVENT
END:VCALENDAR
