BEGIN:VCALENDAR
CALSCALE:GREGORIAN
METHOD:PUBLISH
PRODID:-//5.199.133.97//NONSGML iCalcreator 2.6//
VERSION:2.0
UNIQUE_ID:event905@Йога секреты
X-WR-TIMEZONE:Asia/Baku
BEGIN:VEVENT
UID:event905@Йога секреты
DTSTAMP:20260421T184149Z
CATEGORIES:Путешествие
DESCRIPTION:Интегральный йога-ретрит в Индии\n
 ип события: Путешествие\nСсылка: https://yogase
 crets.ru/index.php?option=com_eventlist&view=details&id=905:----&Itemid=11
 7\n
DTSTART;VALUE=DATE:20150307
DTEND;VALUE=DATE:20150318
LOCATION:
SUMMARY:Интегральный йога-ретрит в Индии
URL:https://yogasecrets.ru/index.php?option=com_eventlist&view=details&id=9
 05:----&Itemid=117
END:VEVENT
END:VCALENDAR
