BEGIN:VCALENDAR
CALSCALE:GREGORIAN
METHOD:PUBLISH
PRODID:-//5.199.133.97//NONSGML iCalcreator 2.6//
VERSION:2.0
UNIQUE_ID:event961@Йога секреты
X-WR-TIMEZONE:Asia/Baku
BEGIN:VEVENT
UID:event961@Йога секреты
DTSTAMP:20260421T184551Z
CATEGORIES:Путешествие
DESCRIPTION:Йога-тур на Сейшельских островах с
  Нилеш Савант  2 - 12 март\nТип события: Путе
 шествие\nСсылка: https://yogasecrets.ru/index.php?option=com_
 eventlist&view=details&id=961:--------2-12-&Itemid=117\n
DTSTART;VALUE=DATE:20150302
DTEND;VALUE=DATE:20150313
LOCATION:Сейшелы\, о. Маэ\,Seychelles
SUMMARY:Йога-тур на Сейшельских островах с Н
 леш Савант  2 - 12 март
URL:https://yogasecrets.ru/index.php?option=com_eventlist&view=details&id=9
 61:--------2-12-&Itemid=117
END:VEVENT
END:VCALENDAR
