BEGIN:VCALENDAR
CALSCALE:GREGORIAN
METHOD:PUBLISH
PRODID:-//5.199.133.97//NONSGML iCalcreator 2.6//
VERSION:2.0
UNIQUE_ID:event962@Йога секреты
X-WR-TIMEZONE:Asia/Baku
BEGIN:VEVENT
UID:event962@Йога секреты
DTSTAMP:20260421T152702Z
CATEGORIES:Путешествие
DESCRIPTION:Йога-тур на Сейшельских островах с
  Нилеш Савант  7 - 17 апре\nТип события: Путе
 шествие\nСсылка: https://yogasecrets.ru/index.php?option=com_
 eventlist&view=details&id=962:--------7-17-&Itemid=117\n
DTSTART;VALUE=DATE:20150407
DTEND;VALUE=DATE:20150418
LOCATION:Сейшелы\, о. Маэ\,Seychelles
SUMMARY:Йога-тур на Сейшельских островах с Н
 леш Савант  7 - 17 апре
URL:https://yogasecrets.ru/index.php?option=com_eventlist&view=details&id=9
 62:--------7-17-&Itemid=117
END:VEVENT
END:VCALENDAR
